BEGIN:VCALENDAR
VERSION:2.0
PRODID:-//Sabre//Sabre VObject 4.5.8//EN
CALSCALE:GREGORIAN
BEGIN:VEVENT
UID:criticalmass-one-zug-1735321500
DTSTAMP:20260425T181702Z
SUMMARY:Critical Mass Zug 27.12.2024
DTSTART;TZID=Europe/Berlin:20241227T184500
DTEND;TZID=Europe/Berlin:20241227T204500
LOCATION:Postplatz
GEO:47.167995;8.515520
URL;VALUE=URI:https://criticalmass.in/zug/2024-12-27
END:VEVENT
END:VCALENDAR
