BEGIN:VCALENDAR
VERSION:2.0
PRODID:-//Sabre//Sabre VObject 4.5.8//EN
CALSCALE:GREGORIAN
BEGIN:VEVENT
UID:criticalmass-one-zug-1722012300
DTSTAMP:20260425T181113Z
SUMMARY:Critical Mass Zug 26.07.2024
DTSTART;TZID=Europe/Berlin:20240726T184500
DTEND;TZID=Europe/Berlin:20240726T204500
LOCATION:Postplatz
GEO:47.167995;8.515520
URL;VALUE=URI:https://criticalmass.in/zug/2024-07-26
END:VEVENT
END:VCALENDAR
