BEGIN:VCALENDAR
VERSION:2.0
PRODID:-//Sabre//Sabre VObject 4.5.8//EN
CALSCALE:GREGORIAN
BEGIN:VEVENT
UID:criticalmass-one-zug-1708710300
DTSTAMP:20260425T033026Z
SUMMARY:Critical Mass Zug 23.02.2024 - Gegen das Vergessen und für die Men
 schlichkeit
DESCRIPTION:Lasst uns dieses Mal für die Menschlichkeit und gegen das Verg
 essen unterwegs sein ! Antisemitismus\, Rassismus\, und Ausgrenzung jeglic
 her Art dürfen bei uns keinen Platz haben !
DTSTART;TZID=Europe/Berlin:20240223T184500
DTEND;TZID=Europe/Berlin:20240223T204500
LOCATION:Postplatz
GEO:47.167995;8.515520
URL;VALUE=URI:https://criticalmass.in/zug/2024-02-23
END:VEVENT
END:VCALENDAR
