BEGIN:VCALENDAR
VERSION:2.0
PRODID:-//Sabre//Sabre VObject 4.5.8//EN
CALSCALE:GREGORIAN
BEGIN:VEVENT
UID:criticalmass-one-zug-1648230300
DTSTAMP:20260425T152505Z
SUMMARY:Critical Mass Zug 25.03.2022
DTSTART;TZID=Europe/Berlin:20220325T184500
DTEND;TZID=Europe/Berlin:20220325T204500
LOCATION:Postplatz
GEO:47.167995;8.515520
URL;VALUE=URI:https://criticalmass.in/zug/2022-03-25
END:VEVENT
END:VCALENDAR
