BEGIN:VCALENDAR
VERSION:2.0
PRODID:-//Sabre//Sabre VObject 4.5.8//EN
CALSCALE:GREGORIAN
BEGIN:VEVENT
UID:criticalmass-one-zug-1640972700
DTSTAMP:20260425T033005Z
SUMMARY:Critical Mass Zug 31.12.2021
DTSTART;TZID=Europe/Berlin:20211231T184500
DTEND;TZID=Europe/Berlin:20211231T204500
LOCATION:Postplatz
GEO:47.167995;8.515520
URL;VALUE=URI:https://criticalmass.in/zug/2021-12-31
END:VEVENT
END:VCALENDAR
