BEGIN:VCALENDAR
VERSION:2.0
PRODID:-//Sabre//Sabre VObject 4.5.8//EN
CALSCALE:GREGORIAN
BEGIN:VEVENT
UID:criticalmass-one-zuerich-1601128800
DTSTAMP:20260425T124909Z
SUMMARY:Kidical Mass Zürich
DTSTART;TZID=Europe/Zurich:20200926T160000
DTEND;TZID=Europe/Zurich:20200926T180000
LOCATION:GZ Bachwiesen
GEO:47.380408;8.486702
URL;VALUE=URI:https://criticalmass.in/zuerich/kidical-mass-zurich-september
 -2020
END:VEVENT
END:VCALENDAR
