BEGIN:VCALENDAR
VERSION:2.0
PRODID:-//Sabre//Sabre VObject 4.5.8//EN
CALSCALE:GREGORIAN
BEGIN:VEVENT
UID:criticalmass-one-zuerich-1727001000
DTSTAMP:20260424T224756Z
SUMMARY:Kidical Mass Zürich 22.09.2024
DESCRIPTION:Gemeinsame Fahrt als Kidical Mass zur grossen Velodemo am inter
 nationalen autofreien Tag.
DTSTART;TZID=Europe/Zurich:20240922T123000
DTEND;TZID=Europe/Zurich:20240922T143000
LOCATION:Platzspitz-Pavillon
GEO:47.380624;8.539680
URL;VALUE=URI:https://criticalmass.in/zuerich/kidical-mass-zuerich-septembe
 r-2024
END:VEVENT
END:VCALENDAR
