BEGIN:VCALENDAR
VERSION:2.0
PRODID:-//Sabre//Sabre VObject 4.5.8//EN
CALSCALE:GREGORIAN
BEGIN:VEVENT
UID:criticalmass-one-zuerich-1664020800
DTSTAMP:20260423T195559Z
SUMMARY:Kidical Mass Zürich (CH) 24.09.2022
DTSTART;TZID=Europe/Zurich:20220924T140000
DTEND;TZID=Europe/Zurich:20220924T160000
LOCATION:Schulhaus Gubel
URL;VALUE=URI:https://criticalmass.in/zuerich/kidical-mass-zuerich-septembe
 r-2022
END:VEVENT
END:VCALENDAR
