BEGIN:VCALENDAR
VERSION:2.0
PRODID:-//Sabre//Sabre VObject 4.5.8//EN
CALSCALE:GREGORIAN
BEGIN:VEVENT
UID:criticalmass-one-zuerich-1631966400
DTSTAMP:20260424T112135Z
SUMMARY:Kidical Mass Zürich (CH) 18.09.2021
DTSTART;TZID=Europe/Zurich:20210918T140000
DTEND;TZID=Europe/Zurich:20210918T160000
LOCATION:GZ Bachwiesen
URL;VALUE=URI:https://criticalmass.in/zuerich/kidical-mass-zuerich-septembe
 r-2021
END:VEVENT
END:VCALENDAR
