BEGIN:VCALENDAR
VERSION:2.0
PRODID:-//Sabre//Sabre VObject 4.5.8//EN
CALSCALE:GREGORIAN
BEGIN:VEVENT
UID:criticalmass-one-zuerich-1761932700
DTSTAMP:20260424T232832Z
SUMMARY:Critical Mass Zürich 31.10.2025
DTSTART;TZID=Europe/Zurich:20251031T184500
DTEND;TZID=Europe/Zurich:20251031T204500
LOCATION:Marie-Maag-Platz
GEO:47.364845;8.538212
URL;VALUE=URI:https://criticalmass.in/zuerich/2025-10-31
END:VEVENT
END:VCALENDAR
