BEGIN:VCALENDAR
VERSION:2.0
PRODID:-//Sabre//Sabre VObject 4.5.8//EN
CALSCALE:GREGORIAN
BEGIN:VEVENT
UID:criticalmass-one-zuerich-1758905100
DTSTAMP:20260423T185206Z
SUMMARY:Critical Mass Zürich 26.09.2025
DTSTART;TZID=Europe/Zurich:20250926T184500
DTEND;TZID=Europe/Zurich:20250926T204500
LOCATION:Marie-Maag-Platz
GEO:47.364845;8.538212
URL;VALUE=URI:https://criticalmass.in/zuerich/2025-09-26
END:VEVENT
END:VCALENDAR
