BEGIN:VCALENDAR
VERSION:2.0
PRODID:-//Sabre//Sabre VObject 4.5.8//EN
CALSCALE:GREGORIAN
BEGIN:VEVENT
UID:criticalmass-one-zuerich-1751042700
DTSTAMP:20260423T185103Z
SUMMARY:Critical Mass Zürich 27.06.2025
DTSTART;TZID=Europe/Zurich:20250627T184500
DTEND;TZID=Europe/Zurich:20250627T204500
LOCATION:Marie-Maag-Platz
GEO:47.364845;8.538212
URL;VALUE=URI:https://criticalmass.in/zuerich/2025-06-27
END:VEVENT
END:VCALENDAR
