BEGIN:VCALENDAR
VERSION:2.0
PRODID:-//Sabre//Sabre VObject 4.5.8//EN
CALSCALE:GREGORIAN
BEGIN:VEVENT
UID:criticalmass-one-zuerich-1700847000
DTSTAMP:20260423T112233Z
SUMMARY:Critical Mass Zürich 24.11.2023
DTSTART;TZID=Europe/Zurich:20231124T183000
DTEND;TZID=Europe/Zurich:20231124T203000
LOCATION:Bürkliplatz
GEO:47.366158;8.539015
URL;VALUE=URI:https://criticalmass.in/zuerich/2023-11-24
END:VEVENT
END:VCALENDAR
