BEGIN:VCALENDAR
VERSION:2.0
PRODID:-//Sabre//Sabre VObject 4.5.8//EN
CALSCALE:GREGORIAN
BEGIN:VEVENT
UID:criticalmass-one-zuerich-1696005000
DTSTAMP:20260422T181558Z
SUMMARY:Critical Mass Zürich 29.09.2023
DTSTART;TZID=Europe/Zurich:20230929T183000
DTEND;TZID=Europe/Zurich:20230929T203000
LOCATION:Bürkliplatz
GEO:47.366158;8.539015
URL;VALUE=URI:https://criticalmass.in/zuerich/2023-09-29
END:VEVENT
END:VCALENDAR
