BEGIN:VCALENDAR
VERSION:2.0
PRODID:-//Sabre//Sabre VObject 4.5.8//EN
CALSCALE:GREGORIAN
BEGIN:VEVENT
UID:criticalmass-one-zuerich-1680280200
DTSTAMP:20260423T032529Z
SUMMARY:Critical Mass Zürich 31.03.2023
DTSTART;TZID=Europe/Zurich:20230331T183000
DTEND;TZID=Europe/Zurich:20230331T203000
LOCATION:Bürkliplatz
GEO:47.366158;8.539015
URL;VALUE=URI:https://criticalmass.in/zuerich/2023-03-31
END:VEVENT
END:VCALENDAR
