BEGIN:VCALENDAR
VERSION:2.0
PRODID:-//Sabre//Sabre VObject 4.5.8//EN
CALSCALE:GREGORIAN
BEGIN:VEVENT
UID:criticalmass-one-zuerich-1664555400
DTSTAMP:20260424T110009Z
SUMMARY:Critical Mass Zürich 30.09.2022
DTSTART;TZID=Europe/Zurich:20220930T183000
DTEND;TZID=Europe/Zurich:20220930T203000
LOCATION:Bürkliplatz
GEO:47.366158;8.539015
URL;VALUE=URI:https://criticalmass.in/zuerich/2022-09-30
END:VEVENT
END:VCALENDAR
