BEGIN:VCALENDAR
VERSION:2.0
PRODID:-//Sabre//Sabre VObject 4.5.8//EN
CALSCALE:GREGORIAN
BEGIN:VEVENT
UID:criticalmass-one-zuerich-1656088200
DTSTAMP:20260424T092431Z
SUMMARY:Critical Mass Zürich 24.06.2022
DTSTART;TZID=Europe/Zurich:20220624T183000
DTEND;TZID=Europe/Zurich:20220624T203000
LOCATION:Bürkliplatz
GEO:47.366158;8.539015
URL;VALUE=URI:https://criticalmass.in/zuerich/2022-06-24
END:VEVENT
END:VCALENDAR
