BEGIN:VCALENDAR
VERSION:2.0
PRODID:-//Sabre//Sabre VObject 4.5.8//EN
CALSCALE:GREGORIAN
BEGIN:VEVENT
UID:criticalmass-one-zuerich-1645810200
DTSTAMP:20260423T172443Z
SUMMARY:Critical Mass Zürich 25.02.2022
DTSTART;TZID=Europe/Zurich:20220225T183000
DTEND;TZID=Europe/Zurich:20220225T203000
LOCATION:Bürkliplatz
GEO:47.366158;8.539015
URL;VALUE=URI:https://criticalmass.in/zuerich/2022-02-25
END:VEVENT
END:VCALENDAR
