BEGIN:VCALENDAR
VERSION:2.0
PRODID:-//Sabre//Sabre VObject 4.5.8//EN
CALSCALE:GREGORIAN
BEGIN:VEVENT
UID:criticalmass-one-zuerich-1637947800
DTSTAMP:20260424T105102Z
SUMMARY:Critical Mass Zürich 26.11.2021
DTSTART;TZID=Europe/Zurich:20211126T183000
DTEND;TZID=Europe/Zurich:20211126T203000
LOCATION:Bürkliplatz
GEO:47.366158;8.539015
URL;VALUE=URI:https://criticalmass.in/zuerich/2021-11-26
END:VEVENT
END:VCALENDAR
