BEGIN:VCALENDAR
VERSION:2.0
PRODID:-//Sabre//Sabre VObject 4.5.8//EN
CALSCALE:GREGORIAN
BEGIN:VEVENT
UID:criticalmass-one-zuerich-1598632200
DTSTAMP:20260425T152028Z
SUMMARY:Critical Mass Zürich 28.08.2020
DTSTART;TZID=Europe/Zurich:20200828T183000
DTEND;TZID=Europe/Zurich:20200828T203000
LOCATION:Bürkliplatz
GEO:47.366158;8.539015
URL;VALUE=URI:https://criticalmass.in/zuerich/2020-08-28
END:VEVENT
END:VCALENDAR
