BEGIN:VCALENDAR
VERSION:2.0
PRODID:-//Sabre//Sabre VObject 4.5.8//EN
CALSCALE:GREGORIAN
BEGIN:VEVENT
UID:criticalmass-one-zuerich-1582911000
DTSTAMP:20260425T033854Z
SUMMARY:Critical Mass Zürich 28.02.2020
DTSTART;TZID=Europe/Zurich:20200228T183000
DTEND;TZID=Europe/Zurich:20200228T203000
LOCATION:Bürkliplatz
GEO:47.366158;8.539015
URL;VALUE=URI:https://criticalmass.in/zuerich/2020-02-28
END:VEVENT
END:VCALENDAR
