BEGIN:VCALENDAR
VERSION:2.0
PRODID:-//Sabre//Sabre VObject 4.5.8//EN
CALSCALE:GREGORIAN
BEGIN:VEVENT
UID:criticalmass-one-zuerich-1553880600
DTSTAMP:20260424T132247Z
SUMMARY:Critical Mass Zürich 29.03.2019
DTSTART;TZID=Europe/Zurich:20190329T183000
DTEND;TZID=Europe/Zurich:20190329T203000
LOCATION:Bürkliplatz
GEO:47.366158;8.539015
URL;VALUE=URI:https://criticalmass.in/zuerich/2019-03-29
END:VEVENT
END:VCALENDAR
