BEGIN:VCALENDAR
VERSION:2.0
PRODID:-//Sabre//Sabre VObject 4.5.8//EN
CALSCALE:GREGORIAN
BEGIN:VEVENT
UID:criticalmass-one-zuerich-1485534600
DTSTAMP:20260423T143106Z
SUMMARY:Critical Mass Zürich 27.01.2017
DTSTART;TZID=Europe/Zurich:20170127T173000
DTEND;TZID=Europe/Zurich:20170127T193000
LOCATION:Bürkliplatz
GEO:47.366158;8.539015
URL;VALUE=URI:https://criticalmass.in/zuerich/2017-01-27
END:VEVENT
END:VCALENDAR
