BEGIN:VCALENDAR
VERSION:2.0
PRODID:-//Sabre//Sabre VObject 4.5.8//EN
CALSCALE:GREGORIAN
BEGIN:VEVENT
UID:criticalmass-one-zuerich-1469809800
DTSTAMP:20260423T031647Z
SUMMARY:Critical Mass Zürich 29.07.2016
DTSTART;TZID=Europe/Zurich:20160729T183000
DTEND;TZID=Europe/Zurich:20160729T203000
LOCATION:Bürkliplatz
GEO:47.366158;8.539015
URL;VALUE=URI:https://criticalmass.in/zuerich/2016-07-29
END:VEVENT
END:VCALENDAR
