BEGIN:VCALENDAR
VERSION:2.0
PRODID:-//Sabre//Sabre VObject 4.5.8//EN
CALSCALE:GREGORIAN
BEGIN:VEVENT
UID:criticalmass-one-wuppertal-1758459600
DTSTAMP:20260423T192235Z
SUMMARY:Kidical Mass Wuppertal 21.09.2025
DESCRIPTION:Wir radeln eine 6 km lange Strecke als geschlossener Zug in der
  Mitte der Straße. Ob Fahrrad\, Laufrad\, Tretroller oder im Kinderanhän
 ger – Strecke und Tempo sind auch für die Kleinsten geeignet.\nJung und
  Alt\, Groß und Klein\, alle sind herzlich willkommen!\n\nDie Polizei wir
 d die als Demonstration gemeldete Tour begleiten\, die Strecke sichern und
  sperren. Wir wollen eine Stadt\, in der sich Kinder und Jugendliche selbs
 tständig und gefahrlos bewegen können. Viele Kinder und ihre Familien w
 ünschen sich mehr Freiraum und sichere Wege.
DTSTART;TZID=Europe/Berlin:20250921T150000
DTEND;TZID=Europe/Berlin:20250921T170000
LOCATION:Wuppertal Geschwister-Scholl Platz
GEO:51.271550;7.203715
URL;VALUE=URI:https://criticalmass.in/wuppertal/kidical-mass-wuppertal-sept
 ember-2025
END:VEVENT
END:VCALENDAR
