BEGIN:VCALENDAR
VERSION:2.0
PRODID:-//Sabre//Sabre VObject 4.5.8//EN
CALSCALE:GREGORIAN
BEGIN:VEVENT
UID:criticalmass-one-wuppertal-1727010000
DTSTAMP:20260423T192235Z
SUMMARY:Kidical Mass Wuppertal 22.09.2024
DTSTART;TZID=Europe/Berlin:20240922T150000
DTEND;TZID=Europe/Berlin:20240922T170000
LOCATION:Wuppertal  Geschwister-Scholl-Platz
GEO:51.272047;7.203401
URL;VALUE=URI:https://criticalmass.in/wuppertal/kidical-mass-wuppertal-sept
 ember-2024
END:VEVENT
END:VCALENDAR
