BEGIN:VCALENDAR
VERSION:2.0
PRODID:-//Sabre//Sabre VObject 4.5.8//EN
CALSCALE:GREGORIAN
BEGIN:VEVENT
UID:criticalmass-one-wuppertal-1748178000
DTSTAMP:20260423T192234Z
SUMMARY:Kidical Mass Wuppertal 25.05.2025
DTSTART;TZID=Europe/Berlin:20250525T150000
DTEND;TZID=Europe/Berlin:20250525T170000
LOCATION:Wuppertal Lienhard-Platz Vohwinkel
GEO:51.232566;7.071482
URL;VALUE=URI:https://criticalmass.in/wuppertal/kidical-mass-wuppertal-mai-
 2025
END:VEVENT
END:VCALENDAR
