BEGIN:VCALENDAR
VERSION:2.0
PRODID:-//Sabre//Sabre VObject 4.5.8//EN
CALSCALE:GREGORIAN
BEGIN:VEVENT
UID:criticalmass-one-wuppertal-1683464400
DTSTAMP:20260423T192234Z
SUMMARY:Kidical Mass Wuppertal 07.05.2023
DTSTART;TZID=Europe/Berlin:20230507T150000
DTEND;TZID=Europe/Berlin:20230507T170000
LOCATION:Vorplatz Mirker Bahnhof
GEO:51.266221;7.143529
URL;VALUE=URI:https://criticalmass.in/wuppertal/kidical-mass-wuppertal-mai-
 2023
END:VEVENT
END:VCALENDAR
