BEGIN:VCALENDAR
VERSION:2.0
PRODID:-//Sabre//Sabre VObject 4.5.8//EN
CALSCALE:GREGORIAN
BEGIN:VEVENT
UID:criticalmass-one-wuppertal-1652619600
DTSTAMP:20260423T192233Z
SUMMARY:Kidical Mass Wuppertal 15.05.2022
DTSTART;TZID=Europe/Berlin:20220515T150000
DTEND;TZID=Europe/Berlin:20220515T170000
LOCATION:Haus der Jugend
GEO:51.271464;7.203097
URL;VALUE=URI:https://criticalmass.in/wuppertal/kidical-mass-wuppertal-mai-
 2022
END:VEVENT
END:VCALENDAR
