BEGIN:VCALENDAR
VERSION:2.0
PRODID:-//Sabre//Sabre VObject 4.5.8//EN
CALSCALE:GREGORIAN
BEGIN:VEVENT
UID:criticalmass-one-wuppertal-1767376800
DTSTAMP:20260424T134807Z
SUMMARY:Critical Mass Wuppertal 02.01.2026
DTSTART;TZID=Europe/Berlin:20260102T190000
DTEND;TZID=Europe/Berlin:20260102T210000
LOCATION:Platz vor dem CinemaxX
GEO:51.255960;7.155257
URL;VALUE=URI:https://criticalmass.in/wuppertal/2026-01-02
END:VEVENT
END:VCALENDAR
