BEGIN:VCALENDAR
VERSION:2.0
PRODID:-//Sabre//Sabre VObject 4.5.8//EN
CALSCALE:GREGORIAN
BEGIN:VEVENT
UID:criticalmass-one-wuppertal-1722618000
DTSTAMP:20260422T100415Z
SUMMARY:Critical Mass Wuppertal 02.08.2024
DTSTART;TZID=Europe/Berlin:20240802T190000
DTEND;TZID=Europe/Berlin:20240802T210000
LOCATION:Platz vor dem CinemaxX
URL;VALUE=URI:https://criticalmass.in/wuppertal/2024-08-02
END:VEVENT
END:VCALENDAR
