BEGIN:VCALENDAR
VERSION:2.0
PRODID:-//Sabre//Sabre VObject 4.5.8//EN
CALSCALE:GREGORIAN
BEGIN:VEVENT
UID:criticalmass-one-wuppertal-1720198800
DTSTAMP:20260424T092406Z
SUMMARY:Critical Mass Wuppertal 05.07.2024
DTSTART;TZID=Europe/Berlin:20240705T190000
DTEND;TZID=Europe/Berlin:20240705T210000
LOCATION:Platz vor dem CinemaxX
GEO:51.255960;7.155257
URL;VALUE=URI:https://criticalmass.in/wuppertal/2024-07-05
END:VEVENT
END:VCALENDAR
