BEGIN:VCALENDAR
VERSION:2.0
PRODID:-//Sabre//Sabre VObject 4.5.8//EN
CALSCALE:GREGORIAN
BEGIN:VEVENT
UID:criticalmass-one-wuppertal-1659718800
DTSTAMP:20260424T110017Z
SUMMARY:Critical Mass Wuppertal 05.08.2022
DTSTART;TZID=Europe/Berlin:20220805T190000
DTEND;TZID=Europe/Berlin:20220805T210000
LOCATION:Platz vor dem CinemaxX
GEO:51.255960;7.155257
URL;VALUE=URI:https://criticalmass.in/wuppertal/2022-08-05
END:VEVENT
END:VCALENDAR
