BEGIN:VCALENDAR
VERSION:2.0
PRODID:-//Sabre//Sabre VObject 4.5.8//EN
CALSCALE:GREGORIAN
BEGIN:VEVENT
UID:criticalmass-one-wuppertal-1625245200
DTSTAMP:20260423T193052Z
SUMMARY:Critical Mass Wuppertal 02.07.2021
DTSTART;TZID=Europe/Berlin:20210702T190000
DTEND;TZID=Europe/Berlin:20210702T210000
LOCATION:Platz vor dem CinemaxX
GEO:51.255960;7.155257
URL;VALUE=URI:https://criticalmass.in/wuppertal/2021-07-02
END:VEVENT
END:VCALENDAR
