BEGIN:VCALENDAR
VERSION:2.0
PRODID:-//Sabre//Sabre VObject 4.5.8//EN
CALSCALE:GREGORIAN
BEGIN:VEVENT
UID:criticalmass-one-wuppertal-1551463200
DTSTAMP:20260422T231236Z
SUMMARY:Critical Mass Wuppertal 01.03.2019
DTSTART;TZID=Europe/Berlin:20190301T190000
DTEND;TZID=Europe/Berlin:20190301T210000
LOCATION:Platz vor dem CinemaxX
GEO:51.255960;7.155257
URL;VALUE=URI:https://criticalmass.in/wuppertal/2019-03-01
END:VEVENT
END:VCALENDAR
