BEGIN:VCALENDAR
VERSION:2.0
PRODID:-//Sabre//Sabre VObject 4.5.8//EN
CALSCALE:GREGORIAN
BEGIN:VEVENT
UID:criticalmass-one-wuppertal-1501866000
DTSTAMP:20260423T204140Z
SUMMARY:Critical Mass Wuppertal 04.08.2017
DESCRIPTION:Zum Start wurden unabhängig voneinander 611 und 614 Teilnehmer
  gezählt. Mit den unvermeidlichen Nachzüglern ist eine Schätzung von 64
 0 Teilnehmern plausibel.\n\nBestes Fahrradwetter: keine Niederschläge\, w
 indstill\, angenehme Temperaturen. Nur wenige Kraftfahrer mit ausgeprägte
 m Revierverhalten.
DTSTART;TZID=Europe/Berlin:20170804T190000
DTEND;TZID=Europe/Berlin:20170804T210000
LOCATION:Platz vor dem CinemaxX
GEO:51.255960;7.155257
URL;VALUE=URI:https://criticalmass.in/wuppertal/2017-08-04
END:VEVENT
END:VCALENDAR
