BEGIN:VCALENDAR
VERSION:2.0
PRODID:-//Sabre//Sabre VObject 4.5.8//EN
CALSCALE:GREGORIAN
BEGIN:VEVENT
UID:criticalmass-one-wuppertal-1488564000
DTSTAMP:20260426T030640Z
SUMMARY:Critical Mass Wuppertal 03.03.2017
DTSTART;TZID=Europe/Berlin:20170303T190000
DTEND;TZID=Europe/Berlin:20170303T210000
LOCATION:Platz vor dem CinemaxX
GEO:51.255960;7.155257
URL;VALUE=URI:https://criticalmass.in/wuppertal/2017-03-03
END:VEVENT
END:VCALENDAR
