BEGIN:VCALENDAR
VERSION:2.0
PRODID:-//Sabre//Sabre VObject 4.5.8//EN
CALSCALE:GREGORIAN
BEGIN:VEVENT
UID:criticalmass-one-wuppertal-1472835600
DTSTAMP:20260424T034044Z
SUMMARY:Critical Mass Wuppertal 02.09.2016
DTSTART;TZID=Europe/Berlin:20160902T190000
DTEND;TZID=Europe/Berlin:20160902T210000
LOCATION:Platz vor dem CinemaxX
GEO:51.255960;7.155257
URL;VALUE=URI:https://criticalmass.in/wuppertal/2016-09-02
END:VEVENT
END:VCALENDAR
