BEGIN:VCALENDAR
VERSION:2.0
PRODID:-//Sabre//Sabre VObject 4.5.8//EN
CALSCALE:GREGORIAN
BEGIN:VEVENT
UID:criticalmass-one-wuppertal-1467392400
DTSTAMP:20260423T205143Z
SUMMARY:Critical Mass Wuppertal 01.07.2016
DTSTART;TZID=Europe/Berlin:20160701T190000
DTEND;TZID=Europe/Berlin:20160701T210000
LOCATION:Platz vor dem CinemaxX
GEO:51.255960;7.155257
URL;VALUE=URI:https://criticalmass.in/wuppertal/2016-07-01
END:VEVENT
END:VCALENDAR
