BEGIN:VCALENDAR
VERSION:2.0
PRODID:-//Sabre//Sabre VObject 4.5.8//EN
CALSCALE:GREGORIAN
BEGIN:VEVENT
UID:criticalmass-one-wuppertal-1443805200
DTSTAMP:20260423T204435Z
SUMMARY:Critical Mass Wuppertal 02.10.2015
DTSTART;TZID=Europe/Berlin:20151002T190000
DTEND;TZID=Europe/Berlin:20151002T210000
LOCATION:Schwebebahnhaltestelle Kluse
GEO:51.255778;7.154825
URL;VALUE=URI:https://criticalmass.in/wuppertal/2015-10-02
END:VEVENT
END:VCALENDAR
