BEGIN:VCALENDAR
VERSION:2.0
PRODID:-//Sabre//Sabre VObject 4.5.8//EN
CALSCALE:GREGORIAN
BEGIN:VEVENT
UID:criticalmass-one-wuppertal-1584885600
DTSTAMP:20260423T164212Z
SUMMARY:1. Kidical Mass Wuppertal
DESCRIPTION:Als eine von über 50 Städten beteiligt sich Wuppertal an der 
 bundesweiten Aktion unter dem Motto "Platz da für die nächste Generation
 ".\nHierbei handelt es sich um eine angemeldete und polizeilich abgesicher
 te Veranstaltung.\nUnsere Forderung sind sichere Wege für alle Verkehrste
 ilnehmer\, insbesondere aber auch für Kinder in jedem Alter. Deswegen hei
 ßt das zusätzliche Motto in Wuppertal - Fahrräder auf die B7.\nEingelad
 en sind alle Kinder mit ihren Eltern\, Großeltern und anderen Freunden un
 d Verwandten. Treffpunkt ist der Vorplatz von der Schwebebahnstation Kluse
 . Von dort geht es über die B7 in Richtung Barmen. Ziel ist der Spielplat
 z am Loh\, wo man dann das Event gemütlich ausklingen lassen kann.\nDas T
 empo ist auf die Kleinsten ausgerichtet\, die Streckenlänge ist nur knapp
  über 5 km und die Höhenmeter für Wuppertaler Verhältnisse nicht vorha
 nden.\nSeid dabei und setzt gemeinsam als Jung und Alt ein Zeichen für di
 e nächste Generation!
DTSTART;TZID=Europe/Berlin:20200322T150000
DTEND;TZID=Europe/Berlin:20200322T170000
LOCATION:Kluse
GEO:51.256000;7.155000
URL;VALUE=URI:https://criticalmass.in/wuppertal/1-kidical-mass-maerz-2020
END:VEVENT
END:VCALENDAR
