BEGIN:VCALENDAR
VERSION:2.0
PRODID:-//Sabre//Sabre VObject 4.5.8//EN
CALSCALE:GREGORIAN
BEGIN:VEVENT
UID:criticalmass-one-wolfsburg-1741370400
DTSTAMP:20260424T000852Z
SUMMARY:Critical Mass Wolfsburg 07.03.2025
DTSTART;TZID=Europe/Berlin:20250307T190000
DTEND;TZID=Europe/Berlin:20250307T210000
LOCATION:Willy-Brandt-Platz
GEO:52.428830;10.788918
URL;VALUE=URI:https://criticalmass.in/wolfsburg/2025-03-07
END:VEVENT
END:VCALENDAR
