BEGIN:VCALENDAR
VERSION:2.0
PRODID:-//Sabre//Sabre VObject 4.5.8//EN
CALSCALE:GREGORIAN
BEGIN:VEVENT
UID:criticalmass-one-wolfsburg-1691168400
DTSTAMP:20260424T134537Z
SUMMARY:Critical Mass Wolfsburg 04.08.2023
DTSTART;TZID=Europe/Berlin:20230804T190000
DTEND;TZID=Europe/Berlin:20230804T210000
LOCATION:Willy-Brandt-Platz
GEO:52.428830;10.788918
URL;VALUE=URI:https://criticalmass.in/wolfsburg/2023-08-04
END:VEVENT
END:VCALENDAR
