BEGIN:VCALENDAR
VERSION:2.0
PRODID:-//Sabre//Sabre VObject 4.5.8//EN
CALSCALE:GREGORIAN
BEGIN:VEVENT
UID:criticalmass-one-wolfsburg-1656691200
DTSTAMP:20260424T064914Z
SUMMARY:Critical Mass Wolfsburg 01.07.2022
DTSTART;TZID=Europe/Berlin:20220701T180000
DTEND;TZID=Europe/Berlin:20220701T200000
LOCATION:Willy-Brandt-Platz
GEO:52.428830;10.788918
URL;VALUE=URI:https://criticalmass.in/wolfsburg/2022-07-01
END:VEVENT
END:VCALENDAR
