BEGIN:VCALENDAR
VERSION:2.0
PRODID:-//Sabre//Sabre VObject 4.5.8//EN
CALSCALE:GREGORIAN
BEGIN:VEVENT
UID:criticalmass-one-wolfsburg-1630684800
DTSTAMP:20260425T155532Z
SUMMARY:Critical Mass Wolfsburg 03.09.2021
DTSTART;TZID=Europe/Berlin:20210903T180000
DTEND;TZID=Europe/Berlin:20210903T200000
LOCATION:Willy-Brandt-Platz
GEO:52.428830;10.788918
URL;VALUE=URI:https://criticalmass.in/wolfsburg/2021-09-03
END:VEVENT
END:VCALENDAR
