BEGIN:VCALENDAR
VERSION:2.0
PRODID:-//Sabre//Sabre VObject 4.5.8//EN
CALSCALE:GREGORIAN
BEGIN:VEVENT
UID:criticalmass-one-wolfsburg-1591372800
DTSTAMP:20260424T151121Z
SUMMARY:Critical Mass Wolfsburg 05.06.2020
DTSTART;TZID=Europe/Berlin:20200605T180000
DTEND;TZID=Europe/Berlin:20200605T200000
LOCATION:Willy-Brandt-Platz
GEO:52.428830;10.788918
URL;VALUE=URI:https://criticalmass.in/wolfsburg/2020-06-05
END:VEVENT
END:VCALENDAR
