BEGIN:VCALENDAR
VERSION:2.0
PRODID:-//Sabre//Sabre VObject 4.5.8//EN
CALSCALE:GREGORIAN
BEGIN:VEVENT
UID:criticalmass-one-witten-1664110800
DTSTAMP:20260423T032512Z
SUMMARY:Kidical Mass Witten 25.09.2022
DTSTART;TZID=Europe/Berlin:20220925T150000
DTEND;TZID=Europe/Berlin:20220925T170000
LOCATION:Kornmarkt (Rathaus Witten)
URL;VALUE=URI:https://criticalmass.in/witten/kidical-mass-witten-september-
 2022
END:VEVENT
END:VCALENDAR
