BEGIN:VCALENDAR
VERSION:2.0
PRODID:-//Sabre//Sabre VObject 4.5.8//EN
CALSCALE:GREGORIAN
BEGIN:VEVENT
UID:criticalmass-one-witten-1632045600
DTSTAMP:20260423T014410Z
SUMMARY:Kidical Mass Witten 19.09.2021
DTSTART;TZID=Europe/Berlin:20210919T120000
DTEND;TZID=Europe/Berlin:20210919T140000
LOCATION:Rathausplatz
GEO:51.439625;7.335979
URL;VALUE=URI:https://criticalmass.in/witten/kidical-mass-witten-september-
 2021
END:VEVENT
END:VCALENDAR
