BEGIN:VCALENDAR
VERSION:2.0
PRODID:-//Sabre//Sabre VObject 4.5.8//EN
CALSCALE:GREGORIAN
BEGIN:VEVENT
UID:criticalmass-one-witten-1683464400
DTSTAMP:20260422T122339Z
SUMMARY:Kidical Mass Witten 07.05.2023
DTSTART;TZID=Europe/Berlin:20230507T150000
DTEND;TZID=Europe/Berlin:20230507T170000
LOCATION:Rathaus / Kornmarkt
GEO:51.439617;7.337174
URL;VALUE=URI:https://criticalmass.in/witten/kidical-mass-witten-mai-2023
END:VEVENT
END:VCALENDAR
