BEGIN:VCALENDAR
VERSION:2.0
PRODID:-//Sabre//Sabre VObject 4.5.8//EN
CALSCALE:GREGORIAN
BEGIN:VEVENT
UID:criticalmass-one-witten-1652533200
DTSTAMP:20260424T113025Z
SUMMARY:Kidical Mass Witten 14.05.2022
DTSTART;TZID=Europe/Berlin:20220514T150000
DTEND;TZID=Europe/Berlin:20220514T170000
LOCATION:Kornmarkt
GEO:51.439617;7.337236
URL;VALUE=URI:https://criticalmass.in/witten/kidical-mass-witten-mai-2022
END:VEVENT
END:VCALENDAR
